BEGIN:VCALENDAR
VERSION:2.0
PRODID:-//eventon.com NONSGML v1.0//EN
CALSCALE:GREGORIAN
METHOD:PUBLISH
BEGIN:VEVENT
UID:69e73ea903973
DTSTAMP:20260421T090857Z
DTSTART:20231018T214500Z
DTEND:20231019T035000Z
LOCATION:The Boathouse 252 Welles Str
SUMMARY:Reception & Dinner
DESCRIPTION:\nhttps://symmetrypartners.com/events/reception-dinner-3/
URL:https://symmetrypartners.com/events/reception-dinner-3/
END:VEVENT
END:VCALENDAR